BEGIN:VCALENDAR
VERSION:2.0
PRODID:-//ChamberMaster//Event Calendar 2.0//EN
METHOD:PUBLISH
X-PUBLISHED-TTL:P3D
REFRESH-INTERVAL:P3D
CALSCALE:GREGORIAN
BEGIN:VEVENT
DTSTART:20230516T190000Z
DTEND:20230516T194500Z
X-MICROSOFT-CDO-ALLDAYEVENT:FALSE
SUMMARY:Chamber 101 - VIRTUAL
DESCRIPTION:Chamber 101 is a free event to learn more about how the Chamber works\, what we offer our members and how you can take full advantage of your membership to help grow your business.\n\nZoom link to the right of the screen.\n\nGuests and current members are welcome!
X-ALT-DESC;FMTTYPE=text/html:<p>Chamber 101 is a free event to learn more about how the Chamber works\, what we offer our members and how you can take full advantage of your membership to help grow your business.<br />\nZoom link to the right of the screen.<br />\nGuests and current members are welcome!<br />\n<br />\n&nbsp\;</p>\n
LOCATION:Join Zoom Meeting https://us02web.zoom.us/j/85438565820?pwd=WFlEa0JnTXdZSVd1RnVVRFliQzNIdz09 Meeting ID: 854 3856 5820 Passcode: 741933 One tap mobile +12532050468\,\,85438565820#\,\,\,\,*741933# US +12532158782\,\,85438565820#\,\,\,\,*741933# US (Tacoma) Dial by your location +1 253 205 0468 US +1 253 215 8782 US (Tacoma) +1 346 248 7799 US (Houston) +1 669 444 9171 US +1 669 900 6833 US (San Jose) +1 719 359 4580 US +1 646 931 3860 US +1 689 278 1000 US +1 929 205 6099 US (New York) +1 301 715 8592 US (Washington DC) +1 305 224 1968 US +1 309 205 3325 US +1 312 626 6799 US (Chicago) +1 360 209 5623 US +1 386 347 5053 US +1 507 473 4847 US +1 564 217 2000 US Meeting ID: 854 3856 5820 Passcode: 741933 Find your local number: https://us02web.zoom.us/u/kCRBpG5fp
UID:e.2445.10066
SEQUENCE:3
DTSTAMP:20260423T073856Z
URL:http://yourchamber.chambermaster.com/events/details/chamber-101-virtual-10066
END:VEVENT

END:VCALENDAR
